BEGIN:VCALENDAR
PRODID:-//eluceo/ical//2.0/EN
VERSION:2.0
CALSCALE:GREGORIAN
BEGIN:VEVENT
UID:16d1eb443bd8fbf4332582021a52b434
DTSTAMP:20260425T002023Z
SUMMARY:Theater der Welt: Except that you cant see me
DESCRIPTION:Ein Krankenhausbett auf der Bühne\, umgeben von einer geheimni
 svollen Atmosphäre\, lässt die Zuschauer in eine Welt eintauchen\, in de
 r Unsichtbares sichtbar wird\; eine Einladung\, die eigene Wahrnehmung und
  Vorstellungskraft zu hinterfragen und neu zu entdecken.
URL:https://www.meinplaner.com
DTSTART;TZID=Europe/Amsterdam:20260702T200000
DTEND;TZID=Europe/Amsterdam:20260702T220000
LOCATION:Theaterplatz  2\, 09111 Chemnitz
BEGIN:VALARM
ACTION:DISPLAY
DESCRIPTION:Erinnerung: Theater der Welt: Except that you cant see me begin
 nt in 1 Stunde
TRIGGER;RELATED=END:-PT1H
END:VALARM
END:VEVENT
END:VCALENDAR
