BEGIN:VCALENDAR
PRODID:-//eluceo/ical//2.0/EN
VERSION:2.0
CALSCALE:GREGORIAN
BEGIN:VEVENT
UID:924cb4f85531e7a812df2327b03c0bb5
DTSTAMP:20260419T154223Z
SUMMARY:DŸSE - MAU-R TOUR
DESCRIPTION:DŸSE – zwei Mann\, maximale Wucht: Seit 2003 wirbelt das Duo
  aus Gitarre\, Schlagzeug\, Noise-Rock und dadaistischem Humor über die B
 ühnen. Präzise\, laut und unberechenbar sprengen sie Grenzen und begeist
 ern Fans europaweit.
URL:https://www.meinplaner.com
DTSTART;TZID=Europe/Amsterdam:20260425T190000
DTEND;TZID=Europe/Amsterdam:20260425T210000
LOCATION:Chemnitztalstr. 54\, 09114 Chemnitz
BEGIN:VALARM
ACTION:DISPLAY
DESCRIPTION:Erinnerung: DŸSE - MAU-R TOUR beginnt in 1 Stunde
TRIGGER;RELATED=END:-PT1H
END:VALARM
END:VEVENT
END:VCALENDAR
