BEGIN:VCALENDAR
PRODID:-//eluceo/ical//2.0/EN
VERSION:2.0
CALSCALE:GREGORIAN
BEGIN:VEVENT
UID:2e1d9638ea3a811378dd7d70fd656ed0
DTSTAMP:20260420T024548Z
SUMMARY:Oldieparty Light
DESCRIPTION:Ein entspannter Partyabend mit bekannten Klassikern vergangener
  Jahrzehnte. Zeitlose Hits sorgen für gute Stimmung und laden zum Tanzen 
 und Genießen ein.
URL:https://www.meinplaner.com
DTSTART;TZID=Europe/Amsterdam:20260516T200000
DTEND;TZID=Europe/Amsterdam:20260516T220000
LOCATION:Bergstr. 22\, 08280 Aue-Bad Schlema
BEGIN:VALARM
ACTION:DISPLAY
DESCRIPTION:Erinnerung: Oldieparty Light beginnt in 1 Stunde
TRIGGER;RELATED=END:-PT1H
END:VALARM
END:VEVENT
END:VCALENDAR
