BEGIN:VCALENDAR
PRODID:-//eluceo/ical//2.0/EN
VERSION:2.0
CALSCALE:GREGORIAN
BEGIN:VEVENT
UID:fe1e8da8680ca5f02d15f788ce22182f
DTSTAMP:20260422T023138Z
SUMMARY:Schauröstungen
DESCRIPTION:Das Erlebnis der Schauröstung entführt in die Welt des Kaffee
 s – der Duft frisch gerösteter Bohnen erfüllt den Raum. Mit maximal 15
  Personen kann der faszinierende Prozess hautnah erlebt werden\, direkt im
  Herzen des Cafés.
URL:https://www.meinplaner.com
DTSTART;TZID=Europe/Amsterdam:20260422T170000
DTEND;TZID=Europe/Amsterdam:20260422T173000
LOCATION:Chemnitzer Str. 10\, 09221 Neukirchen/Erzgeb.
BEGIN:VALARM
ACTION:DISPLAY
DESCRIPTION:Erinnerung: Schauröstungen beginnt in 1 Stunde
TRIGGER;RELATED=END:-PT1H
END:VALARM
END:VEVENT
BEGIN:VEVENT
UID:d4baa568770697ab0651d12a8a2dce79
DTSTAMP:20260422T023138Z
SUMMARY:Schauröstungen
DESCRIPTION:Das Erlebnis der Schauröstung entführt in die Welt des Kaffee
 s – der Duft frisch gerösteter Bohnen erfüllt den Raum. Mit maximal 15
  Personen kann der faszinierende Prozess hautnah erlebt werden\, direkt im
  Herzen des Cafés.
URL:https://www.meinplaner.com
DTSTART;TZID=Europe/Amsterdam:20260422T130000
DTEND;TZID=Europe/Amsterdam:20260422T133000
LOCATION:Chemnitzer Str. 10\, 09221 Neukirchen/Erzgeb.
BEGIN:VALARM
ACTION:DISPLAY
DESCRIPTION:Erinnerung: Schauröstungen beginnt in 1 Stunde
TRIGGER;RELATED=END:-PT1H
END:VALARM
END:VEVENT
END:VCALENDAR
