BEGIN:VCALENDAR
PRODID:-//eluceo/ical//2.0/EN
VERSION:2.0
CALSCALE:GREGORIAN
BEGIN:VEVENT
UID:ae0227c1177f96e5f4cf38572a1db8ce
DTSTAMP:20260421T205441Z
SUMMARY:Bummelfahrt nach Annaberg-Buchholz
DESCRIPTION:Bummelfahrt nach Annaberg-Buchholz mit der Möglichkeit zum Bum
 meln in der Innenstadt\, Museumsbesichtigung und Gelegenheit zum Besuch de
 r St. Annenkirche oder der Bergkirche am Markt. 
URL:https://www.meinplaner.com
DTSTART;TZID=Europe/Amsterdam:20260424T140000
DTEND;TZID=Europe/Amsterdam:20260424T160000
LOCATION:Freiberger Str. 33\, 09488 Thermalbad Wiesenbad
BEGIN:VALARM
ACTION:DISPLAY
DESCRIPTION:Erinnerung: Bummelfahrt nach Annaberg-Buchholz beginnt in 1 Stu
 nde
TRIGGER;RELATED=END:-PT1H
END:VALARM
END:VEVENT
END:VCALENDAR
