BEGIN:VCALENDAR
PRODID:-//eluceo/ical//2.0/EN
VERSION:2.0
CALSCALE:GREGORIAN
BEGIN:VEVENT
UID:f95f302b4d44ba59062764c9a3740eb3
DTSTAMP:20260421T191717Z
SUMMARY:Faszination Maschine unter Dampf
DESCRIPTION:Vorführung der Einzylinder-Gegendruck-Dampfmaschine von 1896.\
 n
URL:https://www.meinplaner.com
DTSTART;TZID=Europe/Amsterdam:20260426T130000
DTEND;TZID=Europe/Amsterdam:20260426T133000
LOCATION:Zwickauer Str. 119\, 09112 Chemnitz
BEGIN:VALARM
ACTION:DISPLAY
DESCRIPTION:Erinnerung: Faszination Maschine unter Dampf beginnt in 1 Stund
 e
TRIGGER;RELATED=END:-PT1H
END:VALARM
END:VEVENT
BEGIN:VEVENT
UID:ac09b0228edc7a9f8623775e1d151c96
DTSTAMP:20260421T191717Z
SUMMARY:Faszination Maschine unter Dampf
DESCRIPTION:Vorführung der Einzylinder-Gegendruck-Dampfmaschine von 1896.\
 n
URL:https://www.meinplaner.com
DTSTART;TZID=Europe/Amsterdam:20260426T150000
DTEND;TZID=Europe/Amsterdam:20260426T153000
LOCATION:Zwickauer Str. 119\, 09112 Chemnitz
BEGIN:VALARM
ACTION:DISPLAY
DESCRIPTION:Erinnerung: Faszination Maschine unter Dampf beginnt in 1 Stund
 e
TRIGGER;RELATED=END:-PT1H
END:VALARM
END:VEVENT
BEGIN:VEVENT
UID:ef3b44e8be08a385bc3a73b368e1c4ff
DTSTAMP:20260421T191717Z
SUMMARY:Faszination Maschine unter Dampf
DESCRIPTION:Vorführung der Einzylinder-Gegendruck-Dampfmaschine von 1896.\
 n
URL:https://www.meinplaner.com
DTSTART;TZID=Europe/Amsterdam:20260426T110000
DTEND;TZID=Europe/Amsterdam:20260426T113000
LOCATION:Zwickauer Str. 119\, 09112 Chemnitz
BEGIN:VALARM
ACTION:DISPLAY
DESCRIPTION:Erinnerung: Faszination Maschine unter Dampf beginnt in 1 Stund
 e
TRIGGER;RELATED=END:-PT1H
END:VALARM
END:VEVENT
END:VCALENDAR
