BEGIN:VCALENDAR
PRODID:-//eluceo/ical//2.0/EN
VERSION:2.0
CALSCALE:GREGORIAN
BEGIN:VEVENT
UID:008622de8cf492f418d172d741234af4
DTSTAMP:20260421T223536Z
SUMMARY:F. Mendelssohn: Lobgesang
DESCRIPTION:Im Mittelpunkt steht der „Lobgesang“ von Felix Mendelssohn 
 Bartholdy\, der christliche und jüdische Traditionen musikalisch verbinde
 t. Ergänzt durch eine Pfingstkantate von Johann Sebastian Bach entsteht e
 in festliches Zeugnis geistlicher Verbundenheit.
URL:https://www.meinplaner.com
DTSTART;TZID=Europe/Amsterdam:20260524T150000
DTEND;TZID=Europe/Amsterdam:20260524T150000
LOCATION:Domhof 10\, 08056 Zwickau
BEGIN:VALARM
ACTION:DISPLAY
DESCRIPTION:Erinnerung: F. Mendelssohn: Lobgesang beginnt in 1 Stunde
TRIGGER;RELATED=END:-PT1H
END:VALARM
END:VEVENT
END:VCALENDAR
