BEGIN:VCALENDAR
PRODID:-//eluceo/ical//2.0/EN
VERSION:2.0
CALSCALE:GREGORIAN
BEGIN:VEVENT
UID:a74212ba463b196079337e7577a624fb
DTSTAMP:20260423T133035Z
SUMMARY:Ein Traum für Mittelalterfreunde
DESCRIPTION:Die Burg Gnandstein ist wohl eine der besterhaltenen romanische
 n Wehranlagen in Sachsen. Die Festung hoch über der Wyhra ist ein steinge
 wordener Traum für Mittelalterfreunde. Die Geschichte der Burg reicht üb
 er 800 Jahre zurück. Sie war rund 700 Jahre bewohnt.
URL:https://www.meinplaner.com
DTSTART;TZID=Europe/Amsterdam:20260423T100000
DTEND;TZID=Europe/Amsterdam:20260423T170000
LOCATION:Burgstr. 3\, 04654 Frohburg
BEGIN:VALARM
ACTION:DISPLAY
DESCRIPTION:Erinnerung: Ein Traum für Mittelalterfreunde beginnt in 1 Stun
 de
TRIGGER;RELATED=END:-PT1H
END:VALARM
END:VEVENT
END:VCALENDAR
