BEGIN:VCALENDAR
PRODID:-//eluceo/ical//2.0/EN
VERSION:2.0
CALSCALE:GREGORIAN
BEGIN:VEVENT
UID:cb6ea3f2d0e0e6c39f93fcdc714e0b0d
DTSTAMP:20260421T172247Z
SUMMARY:Sonderausstellung: Federleicht und himmlisch schön – die Margeri
 tenengel von Wendt & Kühn
DESCRIPTION:Federleicht und himmlisch schön – die Margeritenengel von We
 ndt & Kühn lädt zu einer Zeitreise ins Jahr 1925 ein\, zeigt historische
  Muster\, seltene Entwürfe und beleuchtet das einzigartige gestalterische
  Wesen dieser himmlischen Boten.
URL:https://www.meinplaner.com
DTSTART;TZID=Europe/Amsterdam:20260422T100000
DTEND;TZID=Europe/Amsterdam:20260422T170000
LOCATION:Chemnitzer Str. 40\, 09579 Grünhainichen
BEGIN:VALARM
ACTION:DISPLAY
DESCRIPTION:Erinnerung: Sonderausstellung: Federleicht und himmlisch schön
  – die Margeritenengel von Wendt & Kühn beginnt in 1 Stunde
TRIGGER;RELATED=END:-PT1H
END:VALARM
END:VEVENT
END:VCALENDAR
