BEGIN:VCALENDAR
PRODID:-//eluceo/ical//2.0/EN
VERSION:2.0
CALSCALE:GREGORIAN
BEGIN:VEVENT
UID:460d8902b8b7556bee385c8739b9bc64
DTSTAMP:20260420T174337Z
SUMMARY:Tägliche Fütterungen
DESCRIPTION:Im Tierpark werden täglich verschiedene Tiere gefüttert\, dar
 unter Minischweine\, Hyänen\, Tiger\, Leopard\, Dscheladas\, Erdmännchen
  und Faultiere\, die Besucher in ihren Bann ziehen und ein unvergessliches
  Erlebnis bieten.
URL:https://www.meinplaner.com
DTSTART;TZID=Europe/Amsterdam:20260421T093000
DTEND;TZID=Europe/Amsterdam:20260421T150000
LOCATION:Nevoigtstr. 18\, 09117 Chemnitz
BEGIN:VALARM
ACTION:DISPLAY
DESCRIPTION:Erinnerung: Tägliche Fütterungen beginnt in 1 Stunde
TRIGGER;RELATED=END:-PT1H
END:VALARM
END:VEVENT
END:VCALENDAR
