BEGIN:VCALENDAR
PRODID:-//eluceo/ical//2.0/EN
VERSION:2.0
CALSCALE:GREGORIAN
BEGIN:VEVENT
UID:d178c8c49fa06f44ec94ed20d5549d13
DTSTAMP:20260426T001227Z
SUMMARY:finnische Sauna & Dampfsauna
DESCRIPTION:Im Chemnitzer Stadtbad laden die finnische Sauna und die Dampfs
 auna zu entspannenden Momenten ein\, während wohltuende Wärme und der Du
 ft von ätherischen Ölen für eine perfekte Auszeit sorgen und Körper so
 wie Geist revitalisieren.
URL:https://www.meinplaner.com
DTSTART;TZID=Europe/Amsterdam:20260426T090000
DTEND;TZID=Europe/Amsterdam:20260426T160000
LOCATION:Mühlenstraße 27\, 09111 Chemnitz
BEGIN:VALARM
ACTION:DISPLAY
DESCRIPTION:Erinnerung: finnische Sauna & Dampfsauna beginnt in 1 Stunde
TRIGGER;RELATED=END:-PT1H
END:VALARM
END:VEVENT
END:VCALENDAR
