BEGIN:VCALENDAR
PRODID:-//eluceo/ical//2.0/EN
VERSION:2.0
CALSCALE:GREGORIAN
BEGIN:VEVENT
UID:6983ec1d4d148429bf05ead563e6bf74
DTSTAMP:20260420T154112Z
SUMMARY:Theater der Welt: Stream of Memory
DESCRIPTION:„Stream of Memory“ ist eine berührende\, wortlose Bühnene
 rzählung des Papermoon Puppet Theatre: Das riesige Wesen Kali hütet Erin
 nerungen\, trifft Fantasiefiguren und erzählt von Sehnsucht nach Nähe in
  Zeiten der Isolation.
URL:https://www.meinplaner.com
DTSTART;TZID=Europe/Amsterdam:20260619T193000
DTEND;TZID=Europe/Amsterdam:20260619T213000
LOCATION:Theaterplatz  2\, 09111 Chemnitz
BEGIN:VALARM
ACTION:DISPLAY
DESCRIPTION:Erinnerung: Theater der Welt: Stream of Memory beginnt in 1 Stu
 nde
TRIGGER;RELATED=END:-PT1H
END:VALARM
END:VEVENT
END:VCALENDAR
