BEGIN:VCALENDAR
PRODID:-//eluceo/ical//2.0/EN
VERSION:2.0
CALSCALE:GREGORIAN
BEGIN:VEVENT
UID:64a5519d15ed731796fc491c4a568fb9
DTSTAMP:20260424T224322Z
SUMMARY:Marty Supreme
DESCRIPTION:Marty Supreme\, ein ehrgeiziger Schuhverkäufer\, träumt von d
 er Tischtennis-Weltmeisterschaft und setzt alles auf eine Karte\, doch nac
 h einer knappen Niederlage gegen den japanischen Star Endo beginnt eine Od
 yssee\, die ihn an seine Grenzen bringt.
URL:https://www.meinplaner.com
DTSTART;TZID=Europe/Amsterdam:20260426T171500
DTEND;TZID=Europe/Amsterdam:20260426T191500
LOCATION:Buchholzer Str. 10\, 09456 Annaberg-Buchholz
BEGIN:VALARM
ACTION:DISPLAY
DESCRIPTION:Erinnerung: Marty Supreme beginnt in 1 Stunde
TRIGGER;RELATED=END:-PT1H
END:VALARM
END:VEVENT
END:VCALENDAR
