BEGIN:VCALENDAR
PRODID:-//eluceo/ical//2.0/EN
VERSION:2.0
CALSCALE:GREGORIAN
BEGIN:VEVENT
UID:d2ebb2c9e293a099a53122cca5fb28a5
DTSTAMP:20260422T211435Z
SUMMARY:Grundlagenkurs
DESCRIPTION:In diesem Nähkurs werden Schritt für Schritt die Grundlagen v
 ermittelt. Von der Bedienung der Nähmaschine über erste Techniken bis zu
  kleinen Praxisprojekten erhalten Einsteiger ohne oder mit wenig Vorkenntn
 issen einen sicheren Einstieg ins Nähen.
URL:https://www.meinplaner.com
DTSTART;TZID=Europe/Amsterdam:20260425T083000
DTEND;TZID=Europe/Amsterdam:20260425T100000
LOCATION:Erlaer Str.  1\, 08340 Schwarzenberg/Erzgeb.
BEGIN:VALARM
ACTION:DISPLAY
DESCRIPTION:Erinnerung: Grundlagenkurs beginnt in 1 Stunde
TRIGGER;RELATED=END:-PT1H
END:VALARM
END:VEVENT
END:VCALENDAR
