BEGIN:VCALENDAR
PRODID:-//eluceo/ical//2.0/EN
VERSION:2.0
CALSCALE:GREGORIAN
BEGIN:VEVENT
UID:bf3c63005207f531f60cd7eb77c8b0f6
DTSTAMP:20260424T024213Z
SUMMARY:Burg der Märchen
DESCRIPTION:Beim Märchenfest treffen kleine und große Besucher ihre Liebl
 ingsfiguren und tauchen in eine Welt voller Träume ein. Zauberhafte Momen
 te für die ganze Familie erwarten sie\, während Mitmach-Aktionen wie Bas
 teln und Gestalten für Spaß und Kreativität sorgen.
URL:https://www.meinplaner.com
DTSTART;TZID=Europe/Amsterdam:20260711T110000
DTEND;TZID=Europe/Amsterdam:20260711T180000
LOCATION:Kriebsteiner Str. 7\, 09648 Kriebstein
BEGIN:VALARM
ACTION:DISPLAY
DESCRIPTION:Erinnerung: Burg der Märchen beginnt in 1 Stunde
TRIGGER;RELATED=END:-PT1H
END:VALARM
END:VEVENT
END:VCALENDAR
