BEGIN:VCALENDAR
PRODID:-//eluceo/ical//2.0/EN
VERSION:2.0
CALSCALE:GREGORIAN
BEGIN:VEVENT
UID:d4c1c57f91eddc8f30b14f11e6f1f0e2
DTSTAMP:20260422T153348Z
SUMMARY:Männertag am Haasenwald
DESCRIPTION:Bis 19 Uhr wird in geselliger Atmosphäre gefeiert. Highlight i
 st das Bullenreiten\, das für Spaß und Action sorgt. Die Veranstaltung i
 st auch für Familien geeignet und lädt zum gemeinsamen Verweilen ein.
URL:https://www.meinplaner.com
DTSTART;TZID=Europe/Amsterdam:20260514T100000
DTEND;TZID=Europe/Amsterdam:20260514T190000
LOCATION:Lengenfelder Str. 53a\, 08115 Lichtentanne
BEGIN:VALARM
ACTION:DISPLAY
DESCRIPTION:Erinnerung: Männertag am Haasenwald beginnt in 1 Stunde
TRIGGER;RELATED=END:-PT1H
END:VALARM
END:VEVENT
END:VCALENDAR
