BEGIN:VCALENDAR
PRODID:-//eluceo/ical//2.0/EN
VERSION:2.0
CALSCALE:GREGORIAN
BEGIN:VEVENT
UID:19ae848a76065f58a82e8dfe052bdb20
DTSTAMP:20260424T024651Z
SUMMARY: Michael
DESCRIPTION:Der junge Michael Jackson\, als achtes von zehn Kindern unter d
 em strengen Vater Joe aufgewachsen\, wird früh zur Musikkarriere gedrillt
 \, feiert mit den Jackson Five erste Erfolge und erreicht mit "Thriller" W
 eltruhm\, während er sich von seinem Vater trennt.
URL:https://www.meinplaner.com
DTSTART;TZID=Europe/Amsterdam:20260424T163000
DTEND;TZID=Europe/Amsterdam:20260424T183000
LOCATION:Jägerstr. 24\, 09212 Limbach-Oberfrohna
BEGIN:VALARM
ACTION:DISPLAY
DESCRIPTION:Erinnerung:  Michael beginnt in 1 Stunde
TRIGGER;RELATED=END:-PT1H
END:VALARM
END:VEVENT
BEGIN:VEVENT
UID:9fe8eddd2f139f99430947179c6f2337
DTSTAMP:20260424T024651Z
SUMMARY: Michael
DESCRIPTION:Der junge Michael Jackson\, als achtes von zehn Kindern unter d
 em strengen Vater Joe aufgewachsen\, wird früh zur Musikkarriere gedrillt
 \, feiert mit den Jackson Five erste Erfolge und erreicht mit "Thriller" W
 eltruhm\, während er sich von seinem Vater trennt.
URL:https://www.meinplaner.com
DTSTART;TZID=Europe/Amsterdam:20260424T193000
DTEND;TZID=Europe/Amsterdam:20260424T213000
LOCATION:Jägerstr. 24\, 09212 Limbach-Oberfrohna
BEGIN:VALARM
ACTION:DISPLAY
DESCRIPTION:Erinnerung:  Michael beginnt in 1 Stunde
TRIGGER;RELATED=END:-PT1H
END:VALARM
END:VEVENT
END:VCALENDAR
