BEGIN:VCALENDAR
PRODID:-//eluceo/ical//2.0/EN
VERSION:2.0
CALSCALE:GREGORIAN
BEGIN:VEVENT
UID:e3de93609065f1a02cd1a98bbea1e471
DTSTAMP:20260423T165416Z
SUMMARY:ChatGPT Freund oder Feind? – Theaterprojekt ab 10 Jahren
DESCRIPTION:Ein kreatives Projekt für Kinder und Jugendliche: Theater trif
 ft KI. Gemeinsam werden Tools ausprobiert\, Chancen und Risiken reflektier
 t und eigene Szenen entwickelt – bis hin zu einer gemeinsamen Inszenieru
 ng.
URL:https://www.meinplaner.com
DTSTART;TZID=Europe/Amsterdam:20260505T163000
DTEND;TZID=Europe/Amsterdam:20260505T183000
LOCATION:Zietenstr. 32\, 09130 Chemnitz
BEGIN:VALARM
ACTION:DISPLAY
DESCRIPTION:Erinnerung: ChatGPT Freund oder Feind? – Theaterprojekt ab 10
  Jahren beginnt in 1 Stunde
TRIGGER;RELATED=END:-PT1H
END:VALARM
END:VEVENT
END:VCALENDAR
