BEGIN:VCALENDAR
PRODID:-//eluceo/ical//2.0/EN
VERSION:2.0
CALSCALE:GREGORIAN
BEGIN:VEVENT
UID:698186b4aff08fe60a8d16385e6242f1
DTSTAMP:20260419T142436Z
SUMMARY:Let's play - Zocken in der Bibo
DESCRIPTION:Kids ab 12 Jahren können ausleihbare PS4- und Nintendo Switch-
 Spiele spielen. Außerdem werden neue Games vorgestellt.\n
URL:https://www.meinplaner.com
DTSTART;TZID=Europe/Amsterdam:20260423T150000
DTEND;TZID=Europe/Amsterdam:20260423T180000
LOCATION:Moritzstr. 20\, 09111 Chemnitz
BEGIN:VALARM
ACTION:DISPLAY
DESCRIPTION:Erinnerung: Let's play - Zocken in der Bibo beginnt in 1 Stunde
TRIGGER;RELATED=END:-PT1H
END:VALARM
END:VEVENT
END:VCALENDAR
