BEGIN:VCALENDAR
PRODID:-//eluceo/ical//2.0/EN
VERSION:2.0
CALSCALE:GREGORIAN
BEGIN:VEVENT
UID:8f1b6f66524d2add7bd4cdabc494337a
DTSTAMP:20260422T072756Z
SUMMARY:Von schweigenden und sprechenden Objekten – Familiengeschichte im
  Museum
DESCRIPTION:Der Vortrag von Dr. Monika Heinemann beleuchtet die Rolle von F
 amiliengeschichten und Biografien in jüdischen Museen. An Beispielen aus 
 Deutschland und Osteuropa zeigt er\, wie sich Perspektiven\, Deutungen und
  Sammlungsgeschichten über die Jahrzehnte verändert 
URL:https://www.meinplaner.com
DTSTART;TZID=Europe/Amsterdam:20260506T161500
DTEND;TZID=Europe/Amsterdam:20260506T174500
LOCATION:Stefan-Heym-Platz 1\, 09111 Chemnitz
BEGIN:VALARM
ACTION:DISPLAY
DESCRIPTION:Erinnerung: Von schweigenden und sprechenden Objekten – Famil
 iengeschichte im Museum beginnt in 1 Stunde
TRIGGER;RELATED=END:-PT1H
END:VALARM
END:VEVENT
END:VCALENDAR
