BEGIN:VCALENDAR
PRODID:-//eluceo/ical//2.0/EN
VERSION:2.0
CALSCALE:GREGORIAN
BEGIN:VEVENT
UID:61c7389759ae323559e7f339f069db17
DTSTAMP:20260423T000807Z
SUMMARY:Cabaret
DESCRIPTION:Berlin in den 1930ern: Exzess\, Liebe und Lust im Kit-Kat-Club 
 treffen auf die Schatten der NS-Zeit. Sally Bowles und Clifford Bradshaw k
 ämpfen um ihre Liebe\, während Politik\, Angst und Antisemitismus Schick
 sale zerstören. Ein Musical voller Glanz und Mahnung.
URL:https://www.meinplaner.com
DTSTART;TZID=Europe/Amsterdam:20260525T170000
DTEND;TZID=Europe/Amsterdam:20260525T190000
LOCATION:Borngasse 1\, 09599 Freiberg
BEGIN:VALARM
ACTION:DISPLAY
DESCRIPTION:Erinnerung: Cabaret beginnt in 1 Stunde
TRIGGER;RELATED=END:-PT1H
END:VALARM
END:VEVENT
END:VCALENDAR
