BEGIN:VCALENDAR
PRODID:-//eluceo/ical//2.0/EN
VERSION:2.0
CALSCALE:GREGORIAN
BEGIN:VEVENT
UID:d8cdb84659f308a1f392fd3040b28f44
DTSTAMP:20260421T142947Z
SUMMARY:Führung: Ein „Rosswerk“ als Bergbau-Schauanlage
DESCRIPTION:Neben der Vorführung der Göpelfunktion\, an den Wochenenden a
 uch mit Pferden\, gibt es eine historische Bergschmiede\, wo Spindelpresse
  und Schmiedefeuer mit Amboss präsentiert werden. Auch der Märchenberg d
 es Schnitzvereins ist zu bestaunen.
URL:https://www.meinplaner.com
DTSTART;TZID=Europe/Amsterdam:20260422T130000
DTEND;TZID=Europe/Amsterdam:20260422T150000
LOCATION:Lautaer Hauptstr. 12\, 09496 Marienberg
BEGIN:VALARM
ACTION:DISPLAY
DESCRIPTION:Erinnerung: Führung: Ein „Rosswerk“ als Bergbau-Schauanlag
 e beginnt in 1 Stunde
TRIGGER;RELATED=END:-PT1H
END:VALARM
END:VEVENT
BEGIN:VEVENT
UID:ce21f80011c3205708fd884f014e7356
DTSTAMP:20260421T142947Z
SUMMARY:Führung: Ein „Rosswerk“ als Bergbau-Schauanlage
DESCRIPTION:Neben der Vorführung der Göpelfunktion\, an den Wochenenden a
 uch mit Pferden\, gibt es eine historische Bergschmiede\, wo Spindelpresse
  und Schmiedefeuer mit Amboss präsentiert werden. Auch der Märchenberg d
 es Schnitzvereins ist zu bestaunen.
URL:https://www.meinplaner.com
DTSTART;TZID=Europe/Amsterdam:20260422T143000
DTEND;TZID=Europe/Amsterdam:20260422T163000
LOCATION:Lautaer Hauptstr. 12\, 09496 Marienberg
BEGIN:VALARM
ACTION:DISPLAY
DESCRIPTION:Erinnerung: Führung: Ein „Rosswerk“ als Bergbau-Schauanlag
 e beginnt in 1 Stunde
TRIGGER;RELATED=END:-PT1H
END:VALARM
END:VEVENT
END:VCALENDAR
