BEGIN:VCALENDAR
PRODID:-//eluceo/ical//2.0/EN
VERSION:2.0
CALSCALE:GREGORIAN
BEGIN:VEVENT
UID:7e97b191d11caac25aeec4855d5323e7
DTSTAMP:20260420T234508Z
SUMMARY:Jazzy - Chaos im Regenwald
DESCRIPTION:Jazzy\, ein Orang-Utan-Mädchen\, wird durch einen verheerenden
  Waldbrand von ihren Eltern getrennt und findet im Reservat neue Freunde\,
  doch der Verlust treibt sie an\, sich auf die Suche nach ihrer Familie zu
  machen und gleichzeitig den Regenwald zu retten.
URL:https://www.meinplaner.com
DTSTART;TZID=Europe/Amsterdam:20260421T171500
DTEND;TZID=Europe/Amsterdam:20260421T191500
LOCATION:Poetenweg 6-8\, 08056 Zwickau
BEGIN:VALARM
ACTION:DISPLAY
DESCRIPTION:Erinnerung: Jazzy - Chaos im Regenwald beginnt in 1 Stunde
TRIGGER;RELATED=END:-PT1H
END:VALARM
END:VEVENT
BEGIN:VEVENT
UID:25b33b6a9297845c6e741cce0b8cbf51
DTSTAMP:20260420T234508Z
SUMMARY:Jazzy - Chaos im Regenwald
DESCRIPTION:Jazzy\, ein Orang-Utan-Mädchen\, wird durch einen verheerenden
  Waldbrand von ihren Eltern getrennt und findet im Reservat neue Freunde\,
  doch der Verlust treibt sie an\, sich auf die Suche nach ihrer Familie zu
  machen und gleichzeitig den Regenwald zu retten.
URL:https://www.meinplaner.com
DTSTART;TZID=Europe/Amsterdam:20260421T145000
DTEND;TZID=Europe/Amsterdam:20260421T165000
LOCATION:Poetenweg 6-8\, 08056 Zwickau
BEGIN:VALARM
ACTION:DISPLAY
DESCRIPTION:Erinnerung: Jazzy - Chaos im Regenwald beginnt in 1 Stunde
TRIGGER;RELATED=END:-PT1H
END:VALARM
END:VEVENT
END:VCALENDAR
