BEGIN:VCALENDAR
PRODID:-//eluceo/ical//2.0/EN
VERSION:2.0
CALSCALE:GREGORIAN
BEGIN:VEVENT
UID:85b89ed683f5fc1d2f47c18ca4571a5a
DTSTAMP:20260423T093809Z
SUMMARY:Testament. Was gibt's zu beachten?
DESCRIPTION:Es ist nie zu früh\, sich mit dem Testament zu befassen. Es sc
 hafft Klarheit und stellt sicher\, dass Ihr Erbe in Ihrem Sinne wirkt. Rec
 htsanwältin A. Neuerburg informiert praxisnah.
URL:https://www.meinplaner.com
DTSTART;TZID=Europe/Amsterdam:20260507T180000
DTEND;TZID=Europe/Amsterdam:20260507T200000
LOCATION:Markersdorfer Str. 60\, 09123 Chemnitz
BEGIN:VALARM
ACTION:DISPLAY
DESCRIPTION:Erinnerung: Testament. Was gibt's zu beachten? beginnt in 1 Stu
 nde
TRIGGER;RELATED=END:-PT1H
END:VALARM
END:VEVENT
END:VCALENDAR
