BEGIN:VCALENDAR
PRODID:-//eluceo/ical//2.0/EN
VERSION:2.0
CALSCALE:GREGORIAN
BEGIN:VEVENT
UID:3d36541e92d9378244181a221b5c2dec
DTSTAMP:20260422T103114Z
SUMMARY:Selbstfürsorge als Fundament professionellen Handelns 
DESCRIPTION:Das Seminar unterstützt pädagogische Fachkräfte dabei\, eige
 ne Prägungen und deren Einfluss auf den Berufsalltag zu erkennen. Ziel is
 t es\, Ressourcen für Selbstfürsorge zu stärken und eine professionelle
  Haltung weiterzuentwickeln.
URL:https://www.meinplaner.com
DTSTART;TZID=Europe/Amsterdam:20260511T090000
DTEND;TZID=Europe/Amsterdam:20260511T153000
LOCATION:Moritzstr. 20\, 09111 Chemnitz
BEGIN:VALARM
ACTION:DISPLAY
DESCRIPTION:Erinnerung: Selbstfürsorge als Fundament professionellen Hande
 lns  beginnt in 1 Stunde
TRIGGER;RELATED=END:-PT1H
END:VALARM
END:VEVENT
END:VCALENDAR
