BEGIN:VCALENDAR
PRODID:-//eluceo/ical//2.0/EN
VERSION:2.0
CALSCALE:GREGORIAN
BEGIN:VEVENT
UID:dc87c25685888c58a7d20b8c2cb3b415
DTSTAMP:20260423T014544Z
SUMMARY:Füße in den Sand\, Drink in die Hand - Citystrand
DESCRIPTION:Kurzurlaub nach Dienstende\, Füße in den Sand graben\, Drink 
 in der Hand\, dem Fluss lauschen. Möglich am Uferstrand\, direkt am Chemn
 itzfluss gelegen\, mitten in der Stadt und doch ein Rückzugsort.  In Lieg
 estühlen\, Strandkörben oder die sonnengeschützte Lounges.
URL:https://www.meinplaner.com
DTSTART;TZID=Europe/Amsterdam:20260423T160000
DTEND;TZID=Europe/Amsterdam:20260423T230000
LOCATION:Falkestr. 2\, 09111 Chemnitz
BEGIN:VALARM
ACTION:DISPLAY
DESCRIPTION:Erinnerung: Füße in den Sand\, Drink in die Hand - Citystrand
  beginnt in 1 Stunde
TRIGGER;RELATED=END:-PT1H
END:VALARM
END:VEVENT
END:VCALENDAR
