BEGIN:VCALENDAR
PRODID:-//eluceo/ical//2.0/EN
VERSION:2.0
CALSCALE:GREGORIAN
BEGIN:VEVENT
UID:17cda730380c718a6b4a9fab5af2c37a
DTSTAMP:20260423T022059Z
SUMMARY:Hoppers
DESCRIPTION:In HOPPERS entdecken Wissenschaftler eine Technik\, mit der men
 schliches Bewusstsein in lebensechte Robotertiere springt. So können Mens
 chen als Tiere mit Tieren sprechen. Mabel entdeckt dabei unglaubliche Gehe
 imnisse der Tierwelt.
URL:https://www.meinplaner.com
DTSTART;TZID=Europe/Amsterdam:20260423T154500
DTEND;TZID=Europe/Amsterdam:20260423T174500
LOCATION:Neustädter Ring  2\, 08340 Schwarzenberg/Erzgeb.
BEGIN:VALARM
ACTION:DISPLAY
DESCRIPTION:Erinnerung: Hoppers beginnt in 1 Stunde
TRIGGER;RELATED=END:-PT1H
END:VALARM
END:VEVENT
END:VCALENDAR
