BEGIN:VCALENDAR
PRODID:-//eluceo/ical//2.0/EN
VERSION:2.0
CALSCALE:GREGORIAN
BEGIN:VEVENT
UID:1d394eb89b3ba27781f6f76e2874b0af
DTSTAMP:20260420T071422Z
SUMMARY:Sommerkirche-Gottesdienst für Klein und Groß
DESCRIPTION:Sommerkirche-Gottesdienst für Klein und Groß begleitet von Ma
 ndy Trompelt\, der Gemeindepädagogin aus Mülsen\, und musikalisch unterm
 alt von Maria Koschwitz sowie dem LeChaim-Chor aus Chemnitz – ein Fest d
 er Gemeinschaft.
URL:https://www.meinplaner.com
DTSTART;TZID=Europe/Amsterdam:20260705T100000
DTEND;TZID=Europe/Amsterdam:20260705T120000
LOCATION:An der Silber-Therme 1\, 09429 Wolkenstein
BEGIN:VALARM
ACTION:DISPLAY
DESCRIPTION:Erinnerung: Sommerkirche-Gottesdienst für Klein und Groß begi
 nnt in 1 Stunde
TRIGGER;RELATED=END:-PT1H
END:VALARM
END:VEVENT
END:VCALENDAR
