BEGIN:VCALENDAR
PRODID:-//eluceo/ical//2.0/EN
VERSION:2.0
CALSCALE:GREGORIAN
BEGIN:VEVENT
UID:cfd386b4b030868a0364fad645f5c14c
DTSTAMP:20260421T082916Z
SUMMARY:Moby Dick
DESCRIPTION:Ismael träumt vom Meer und heuert auf der „Pequod“ an. Doc
 h die Reise wird zur Jagd auf Moby Dick: Kapitän Ahab treibt die Crew mit
  blindem Rachedurst an. Melvilles Klassiker verbindet Abenteuer mit existe
 nziellen Fragen über Mensch\, Natur und innere Abgründe.
URL:https://www.meinplaner.com
DTSTART;TZID=Europe/Amsterdam:20260424T193000
DTEND;TZID=Europe/Amsterdam:20260424T213000
LOCATION:Borngasse 1\, 09599 Freiberg
BEGIN:VALARM
ACTION:DISPLAY
DESCRIPTION:Erinnerung: Moby Dick beginnt in 1 Stunde
TRIGGER;RELATED=END:-PT1H
END:VALARM
END:VEVENT
END:VCALENDAR
