BEGIN:VCALENDAR
PRODID:-//eluceo/ical//2.0/EN
VERSION:2.0
CALSCALE:GREGORIAN
BEGIN:VEVENT
UID:8e233750557c2d5e7f0abc698a3702eb
DTSTAMP:20260425T001846Z
SUMMARY:Theater der Welt: LA BOULE BLEUE
DESCRIPTION:LA BOULE BLEUE präsentiert auf einem Platz eine riesige\, farb
 wechselnde Kugel\, aus der eigenwillige Wesen hervortreten\, spielerisch a
 gieren und eine Gemeinschaft schaffen\, in der Unterschiede sichtbar bleib
 en und Verständigung jenseits von Sprache möglich wird
URL:https://www.meinplaner.com
DTSTART;TZID=Europe/Amsterdam:20260704T160000
DTEND;TZID=Europe/Amsterdam:20260704T180000
LOCATION:Theaterplatz 1\, 09111 Chemnitz
BEGIN:VALARM
ACTION:DISPLAY
DESCRIPTION:Erinnerung: Theater der Welt: LA BOULE BLEUE beginnt in 1 Stund
 e
TRIGGER;RELATED=END:-PT1H
END:VALARM
END:VEVENT
END:VCALENDAR
