BEGIN:VCALENDAR
PRODID:-//eluceo/ical//2.0/EN
VERSION:2.0
CALSCALE:GREGORIAN
BEGIN:VEVENT
UID:9fcaa879861116f8ec3aa093c9af5944
DTSTAMP:20260419T142529Z
SUMMARY:Tanztee / Paartanz
DESCRIPTION:Nostalgie trifft modernen Stil: In der Tanzbar verschmelzen der
  Retro-Charme der 70er- und 80er-Jahre mit modernem Design. Dezente Kläng
 e\, ein Hauch Eleganz und die besten Hits von damals bis heute laden ein z
 um Genießen\, Tanzen und stilvollen Verweilen.
URL:https://www.meinplaner.com
DTSTART;TZID=Europe/Amsterdam:20260422T150000
DTEND;TZID=Europe/Amsterdam:20260422T180000
LOCATION:An der Markthalle  3-5\, 09111 Chemnitz
BEGIN:VALARM
ACTION:DISPLAY
DESCRIPTION:Erinnerung: Tanztee / Paartanz beginnt in 1 Stunde
TRIGGER;RELATED=END:-PT1H
END:VALARM
END:VEVENT
END:VCALENDAR
