BEGIN:VCALENDAR
PRODID:-//eluceo/ical//2.0/EN
VERSION:2.0
CALSCALE:GREGORIAN
BEGIN:VEVENT
UID:039e320d702ce8dc025534fec8e9d549
DTSTAMP:20260424T072850Z
SUMMARY:Unter dem Pflaster von Glauchau
DESCRIPTION:„Helm auf und los“! Teilnehmende begeben sich unter Anleitu
 ng eines Experten oder einer Expertin hinab in die Unterwelt und erkunden 
 das mehrere hundert Jahre alte Gang- und Kellersystem unter dem Schloss.
URL:https://www.meinplaner.com
DTSTART;TZID=Europe/Amsterdam:20260525T140000
DTEND;TZID=Europe/Amsterdam:20260525T163000
LOCATION:Schloßplatz 5a\, 08371 Glauchau
BEGIN:VALARM
ACTION:DISPLAY
DESCRIPTION:Erinnerung: Unter dem Pflaster von Glauchau beginnt in 1 Stunde
TRIGGER;RELATED=END:-PT1H
END:VALARM
END:VEVENT
END:VCALENDAR
