BEGIN:VCALENDAR
PRODID:-//eluceo/ical//2.0/EN
VERSION:2.0
CALSCALE:GREGORIAN
BEGIN:VEVENT
UID:b0bb719ae579cd08d5f497838f4330e7
DTSTAMP:20260420T153751Z
SUMMARY:Vaterwahl im Silbersaal
DESCRIPTION:Britta lädt zum Familiengeburtstag. Wenn es was umsonst gibt\,
  kommen wenigstens alle. Robert ist wie immer zu spät\, Rolf eh bloß mit
 . Tanja hat Mario im Gepäck und viele Überraschungen. Unversehens wird d
 er Geburtstag zur eigenwilligen Spendergala.
URL:https://www.meinplaner.com
DTSTART;TZID=Europe/Amsterdam:20260527T190000
DTEND;TZID=Europe/Amsterdam:20260527T210000
LOCATION:Eislebener Str. 8\, 09126 Chemnitz
BEGIN:VALARM
ACTION:DISPLAY
DESCRIPTION:Erinnerung: Vaterwahl im Silbersaal beginnt in 1 Stunde
TRIGGER;RELATED=END:-PT1H
END:VALARM
END:VEVENT
END:VCALENDAR
