BEGIN:VCALENDAR
PRODID:-//eluceo/ical//2.0/EN
VERSION:2.0
CALSCALE:GREGORIAN
BEGIN:VEVENT
UID:e40fbd3544f665de510a8fdc317cb714
DTSTAMP:20260420T195633Z
SUMMARY:Iskender Yediler: Ohne Titel (ESDA)
DESCRIPTION:An ein aus der Erde sprießendes Fabrikgebäude erinnernd\, kom
 men in der surrealistisch anmutenden Konstruktion nicht nur Industriekultu
 r und -geschichte des Ortes zu ihrem Recht\, sondern auch die Menschen und
  Klischees.  
URL:https://www.meinplaner.com
DTSTART;TZID=Europe/Amsterdam:20260420T000000
DTEND;TZID=Europe/Amsterdam:20260420T235900
LOCATION:Rosengasse \, 09350 Lichtenstein/Sa.
BEGIN:VALARM
ACTION:DISPLAY
DESCRIPTION:Erinnerung: Iskender Yediler: Ohne Titel (ESDA) beginnt in 1 St
 unde
TRIGGER;RELATED=END:-PT1H
END:VALARM
END:VEVENT
END:VCALENDAR
