BEGIN:VCALENDAR
PRODID:-//eluceo/ical//2.0/EN
VERSION:2.0
CALSCALE:GREGORIAN
BEGIN:VEVENT
UID:d248f5cbb96641847a8518f99b0721d3
DTSTAMP:20260426T001108Z
SUMMARY:Café am Flugplatz
DESCRIPTION:Aromatischer Kaffee und liebevoll hausgemachter Kuchen\, servie
 rt in einer gemütlichen Wohlfühlatmosphäre. Den Moment genießen\, sich
  verwöhnen lassen – ob reserviert oder spontan vorbeigeschaut\, ein Gen
 uss wartet immer.
URL:https://www.meinplaner.com
DTSTART;TZID=Europe/Amsterdam:20260426T100000
DTEND;TZID=Europe/Amsterdam:20260426T170000
LOCATION:Wilhermsdorfer Str. 43\, 09387 Jahnsdorf/Erzgeb.
BEGIN:VALARM
ACTION:DISPLAY
DESCRIPTION:Erinnerung: Café am Flugplatz beginnt in 1 Stunde
TRIGGER;RELATED=END:-PT1H
END:VALARM
END:VEVENT
END:VCALENDAR
