BEGIN:VCALENDAR
PRODID:-//eluceo/ical//2.0/EN
VERSION:2.0
CALSCALE:GREGORIAN
BEGIN:VEVENT
UID:3213849969ff7f24f3d7247d50c4a349
DTSTAMP:20260424T113113Z
SUMMARY:Café Aktiv
DESCRIPTION:Café Aktiv steht für gemeinsames Singen\, Spielen\, Machen un
 d Wissen. In offener Atmosphäre lädt das Angebot zum Mitmachen\, Austaus
 chen und Aktivsein ein – lebendig\, kreativ und generationsübergreifend
 .
URL:https://www.meinplaner.com
DTSTART;TZID=Europe/Amsterdam:20260427T140000
DTEND;TZID=Europe/Amsterdam:20260427T160000
LOCATION:Max-Wenzel-Str. 1\, 09427 Ehrenfriedersdorf
BEGIN:VALARM
ACTION:DISPLAY
DESCRIPTION:Erinnerung: Café Aktiv beginnt in 1 Stunde
TRIGGER;RELATED=END:-PT1H
END:VALARM
END:VEVENT
END:VCALENDAR
