BEGIN:VCALENDAR
PRODID:-//eluceo/ical//2.0/EN
VERSION:2.0
CALSCALE:GREGORIAN
BEGIN:VEVENT
UID:fea05f8b1c50aebda3442fb8adc6aea7
DTSTAMP:20260425T220920Z
SUMMARY:Schlossführungen auf Purschenstein
DESCRIPTION:Schloss Purschenstein inmitten des herrlichen Erzgebirges kann 
 auf eine spannende und bewegte Historie verweisen. Während einer Schlossf
 ührung erfahren Gäste mehr über die Geschichte und können  in den hist
 orischen Gemäuern interessanten Anekdoten lauschen.
URL:https://www.meinplaner.com
DTSTART;TZID=Europe/Amsterdam:20260426T080000
DTEND;TZID=Europe/Amsterdam:20260426T180000
LOCATION:Purschenstein  1\, 09544 Neuhausen/Erzgeb.
BEGIN:VALARM
ACTION:DISPLAY
DESCRIPTION:Erinnerung: Schlossführungen auf Purschenstein beginnt in 1 St
 unde
TRIGGER;RELATED=END:-PT1H
END:VALARM
END:VEVENT
END:VCALENDAR
