BEGIN:VCALENDAR
PRODID:-//eluceo/ical//2.0/EN
VERSION:2.0
CALSCALE:GREGORIAN
BEGIN:VEVENT
UID:9e52bcfa1ed93e1d0d6e098542e788ae
DTSTAMP:20260419T181115Z
SUMMARY:Gin-Verkostungen
DESCRIPTION:SommerGIN - Wie der Duft eines blühenden Lavendelfeldes verzau
 bert dieser Gin die Sinne. Purer Lavendel kombiniert mit fein abgestimmten
  Botanicals aus Rosenblättern verschmelzen in der traditionellen Kupferde
 stillerie zum einzigartigen Geschmackserlebnis.  
URL:https://www.meinplaner.com
DTSTART;TZID=Europe/Amsterdam:20260420T100000
DTEND;TZID=Europe/Amsterdam:20260420T180000
LOCATION:Zur Torfgrube  4a\, 09648 Mittweida
BEGIN:VALARM
ACTION:DISPLAY
DESCRIPTION:Erinnerung: Gin-Verkostungen beginnt in 1 Stunde
TRIGGER;RELATED=END:-PT1H
END:VALARM
END:VEVENT
END:VCALENDAR
