BEGIN:VCALENDAR
PRODID:-//eluceo/ical//2.0/EN
VERSION:2.0
CALSCALE:GREGORIAN
BEGIN:VEVENT
UID:fec69390af225bc75faedfa602666909
DTSTAMP:20260420T062629Z
SUMMARY:Café Aktiv
DESCRIPTION:Café Aktiv steht für gemeinsames Singen\, Spielen\, Machen un
 d Wissen. In offener Atmosphäre lädt das Angebot zum Mitmachen\, Austaus
 chen und Aktivsein ein – lebendig\, kreativ und generationsübergreifend
 .
URL:https://www.meinplaner.com
DTSTART;TZID=Europe/Amsterdam:20260420T140000
DTEND;TZID=Europe/Amsterdam:20260420T160000
LOCATION:Max-Wenzel-Str. 1\, 09427 Ehrenfriedersdorf
BEGIN:VALARM
ACTION:DISPLAY
DESCRIPTION:Erinnerung: Café Aktiv beginnt in 1 Stunde
TRIGGER;RELATED=END:-PT1H
END:VALARM
END:VEVENT
END:VCALENDAR
