BEGIN:VCALENDAR
PRODID:-//eluceo/ical//2.0/EN
VERSION:2.0
CALSCALE:GREGORIAN
BEGIN:VEVENT
UID:7cdfa3ece396dc54dee438f16a07068f
DTSTAMP:20260423T160117Z
SUMMARY:27. Literarisches Quintett
DESCRIPTION:Fünf aktuelle Bücher im Fokus: Im IdeenReich der Universität
 sbibliothek werden Neuerscheinungen diskutiert\, empfohlen oder kritisch b
 eleuchtet. Ein Abend voller Literatur\, Austausch und Einblicke – zuglei
 ch der letzte Bühnenauftritt von Angela Malz.
URL:https://www.meinplaner.com
DTSTART;TZID=Europe/Amsterdam:20260505T190000
DTEND;TZID=Europe/Amsterdam:20260505T210000
LOCATION:Str. der Nationen 33\, 09111 Chemnitz
BEGIN:VALARM
ACTION:DISPLAY
DESCRIPTION:Erinnerung: 27. Literarisches Quintett beginnt in 1 Stunde
TRIGGER;RELATED=END:-PT1H
END:VALARM
END:VEVENT
END:VCALENDAR
