BEGIN:VCALENDAR
PRODID:-//eluceo/ical//2.0/EN
VERSION:2.0
CALSCALE:GREGORIAN
BEGIN:VEVENT
UID:30f05250969b8ba094ff2da297ccf7af
DTSTAMP:20260423T072945Z
SUMMARY:Ungarische Gastfreundschaft in rustikalem Ambiente
DESCRIPTION:Authentische ungarische Küche in der Betyár Csárda in Chemni
 tz: Kesselgulasch\, Paprikahuhn mit Nockerln und Gundel-Palatschinken sorg
 en für Genuss mit Tradition. Im Sommer ergänzt ein idyllischer Biergarte
 n das kulinarische Erlebnis.
URL:https://www.meinplaner.com
DTSTART;TZID=Europe/Amsterdam:20260423T173000
DTEND;TZID=Europe/Amsterdam:20260423T220000
LOCATION:Beyerstr. 28\, 09113 Chemnitz
BEGIN:VALARM
ACTION:DISPLAY
DESCRIPTION:Erinnerung: Ungarische Gastfreundschaft in rustikalem Ambiente 
 beginnt in 1 Stunde
TRIGGER;RELATED=END:-PT1H
END:VALARM
END:VEVENT
BEGIN:VEVENT
UID:97e2b3afd49a1d1169f490a60a2c8087
DTSTAMP:20260423T072945Z
SUMMARY:Ungarische Gastfreundschaft in rustikalem Ambiente
DESCRIPTION:Authentische ungarische Küche in der Betyár Csárda in Chemni
 tz: Kesselgulasch\, Paprikahuhn mit Nockerln und Gundel-Palatschinken sorg
 en für Genuss mit Tradition. Im Sommer ergänzt ein idyllischer Biergarte
 n das kulinarische Erlebnis.
URL:https://www.meinplaner.com
DTSTART;TZID=Europe/Amsterdam:20260423T113000
DTEND;TZID=Europe/Amsterdam:20260423T140000
LOCATION:Beyerstr. 28\, 09113 Chemnitz
BEGIN:VALARM
ACTION:DISPLAY
DESCRIPTION:Erinnerung: Ungarische Gastfreundschaft in rustikalem Ambiente 
 beginnt in 1 Stunde
TRIGGER;RELATED=END:-PT1H
END:VALARM
END:VEVENT
END:VCALENDAR
