BEGIN:VCALENDAR
PRODID:-//eluceo/ical//2.0/EN
VERSION:2.0
CALSCALE:GREGORIAN
BEGIN:VEVENT
UID:9edcdb9e462922d53f541c3e7a5a52d6
DTSTAMP:20260424T154203Z
SUMMARY:4. ShiroCo - Anime- und Manga-Convention
DESCRIPTION:Die ShiroCo verwandelt die Stadthalle in ein Paradies für Anim
 e- und Manga-Fans mit einem aufregenden Wochenende voller Cosplay-Wettbewe
 rben\, Workshops\, einem bunten Bühnenprogramm\, einer Händlermeile\, Ga
 ming-Area\, Artist Alley + einem vielfältigen Food Court.
URL:https://www.meinplaner.com
DTSTART;TZID=Europe/Amsterdam:20260711T100000
DTEND;TZID=Europe/Amsterdam:20260711T190000
LOCATION:Theaterstr. 3\, 09111 Chemnitz
BEGIN:VALARM
ACTION:DISPLAY
DESCRIPTION:Erinnerung: 4. ShiroCo - Anime- und Manga-Convention beginnt in
  1 Stunde
TRIGGER;RELATED=END:-PT1H
END:VALARM
END:VEVENT
END:VCALENDAR
