BEGIN:VCALENDAR
PRODID:-//eluceo/ical//2.0/EN
VERSION:2.0
CALSCALE:GREGORIAN
BEGIN:VEVENT
UID:d5235aed1c346c39ee11d717c0dd90cc
DTSTAMP:20260420T172351Z
SUMMARY:Ausstellung: Vielfalt im Fokus
DESCRIPTION:Die Ausstellung „Vielfalt im Fokus“ zeigt Arbeiten von Sabi
 ne Hagedorn. Porzellan- und Glaskunst treffen auf Malerei und eröffnen fa
 cettenreiche Perspektiven zwischen Material\, Form und Farbe.
URL:https://www.meinplaner.com
DTSTART;TZID=Europe/Amsterdam:20260421T140000
DTEND;TZID=Europe/Amsterdam:20260421T170000
LOCATION:Altmarkt 14\, 09337 Hohenstein-Ernstthal
BEGIN:VALARM
ACTION:DISPLAY
DESCRIPTION:Erinnerung: Ausstellung: Vielfalt im Fokus beginnt in 1 Stunde
TRIGGER;RELATED=END:-PT1H
END:VALARM
END:VEVENT
END:VCALENDAR
