BEGIN:VCALENDAR
PRODID:-//eluceo/ical//2.0/EN
VERSION:2.0
CALSCALE:GREGORIAN
BEGIN:VEVENT
UID:240f36a0ba240371d35936e90cf40968
DTSTAMP:20260420T145919Z
SUMMARY:Normal
DESCRIPTION:Aushilfssheriff Ulysses\, auf der Flucht vor seinen eigenen Dä
 monen\, übernimmt in einer scheinbar ruhigen Kleinstadt die Sheriff-Posit
 ion. Doch als die Bank überfallen wird\, offenbart sich eine dunkle Versc
 hwörung\, in die die gesamte Gemeinde verwickelt ist.
URL:https://www.meinplaner.com
DTSTART;TZID=Europe/Amsterdam:20260420T202000
DTEND;TZID=Europe/Amsterdam:20260420T222000
LOCATION:Poetenweg 6-8\, 08056 Zwickau
BEGIN:VALARM
ACTION:DISPLAY
DESCRIPTION:Erinnerung: Normal beginnt in 1 Stunde
TRIGGER;RELATED=END:-PT1H
END:VALARM
END:VEVENT
END:VCALENDAR
