BEGIN:VCALENDAR
PRODID:-//eluceo/ical//2.0/EN
VERSION:2.0
CALSCALE:GREGORIAN
BEGIN:VEVENT
UID:080ab24daed45f0c441c8f8926375e7e
DTSTAMP:20260426T013321Z
SUMMARY:Romeo und Julia
DESCRIPTION:In einer neu interpretierten Fassung entfaltet sich die zeitlos
 e Tragödie der Liebe\, die gegen gesellschaftliche Widerstände ankämpft
 \, während Leidenschaft und Hass untrennbar verbunden sind und das Schick
 sal der Protagonisten unaufhaltsam beeinflussen.
URL:https://www.meinplaner.com
DTSTART;TZID=Europe/Amsterdam:20260510T170000
DTEND;TZID=Europe/Amsterdam:20260510T190000
LOCATION:Borngasse 1\, 09599 Freiberg
BEGIN:VALARM
ACTION:DISPLAY
DESCRIPTION:Erinnerung: Romeo und Julia beginnt in 1 Stunde
TRIGGER;RELATED=END:-PT1H
END:VALARM
END:VEVENT
END:VCALENDAR
