BEGIN:VCALENDAR
PRODID:-//eluceo/ical//2.0/EN
VERSION:2.0
CALSCALE:GREGORIAN
BEGIN:VEVENT
UID:482639bdb8b4a8e9660cc287f4b73f0c
DTSTAMP:20260424T081401Z
SUMMARY:Mach dich schlank – Live mit Mario D. Richardt
DESCRIPTION:SPIEGEL-Bestsellerautor und TV-Moderator Mario D. Richardt läd
 t zu einem unterhaltsamen Wissensabend ein. Mit Humor und persönlichen Ei
 nblicken spricht er über Ernährung\, Stoffwechsel und die Ursachen von 
 Übergewicht – verständlich und alltagsnah.
URL:https://www.meinplaner.com
DTSTART;TZID=Europe/Amsterdam:20260529T183000
DTEND;TZID=Europe/Amsterdam:20260529T203000
LOCATION:An der Silber-Therme 1\, 09429 Wolkenstein
BEGIN:VALARM
ACTION:DISPLAY
DESCRIPTION:Erinnerung: Mach dich schlank – Live mit Mario D. Richardt be
 ginnt in 1 Stunde
TRIGGER;RELATED=END:-PT1H
END:VALARM
END:VEVENT
END:VCALENDAR
