BEGIN:VCALENDAR
PRODID:-//eluceo/ical//2.0/EN
VERSION:2.0
CALSCALE:GREGORIAN
BEGIN:VEVENT
UID:f801fc89dd62bc6e08f85b332cc188c7
DTSTAMP:20260419T135837Z
SUMMARY:Elias - Das kleine Rettungsboot
DESCRIPTION:Das tapfere Rettungsboot Elias träumt von einem Job im Großha
 fen. Nach einem mutigen Einsatz wird ihm eine Stelle angeboten. Die harte 
 Arbeit und ständige Verspätungen führen zu seiner Entlassung. Traurig k
 ehrt er zurück\, findet aber seine Freunde nicht mehr. 
URL:https://www.meinplaner.com
DTSTART;TZID=Europe/Amsterdam:20260419T150000
DTEND;TZID=Europe/Amsterdam:20260419T170000
LOCATION:Poetenweg 6-8\, 08056 Zwickau
BEGIN:VALARM
ACTION:DISPLAY
DESCRIPTION:Erinnerung: Elias - Das kleine Rettungsboot beginnt in 1 Stunde
TRIGGER;RELATED=END:-PT1H
END:VALARM
END:VEVENT
END:VCALENDAR
