BEGIN:VCALENDAR
PRODID:-//eluceo/ical//2.0/EN
VERSION:2.0
CALSCALE:GREGORIAN
BEGIN:VEVENT
UID:4783db27893bf5a48057ece2657fa6ee
DTSTAMP:20260419T163313Z
SUMMARY:SonntagsBrunch
DESCRIPTION:Jeden Sonntag lädt ein gemütlicher Familien-Brunch zum Genie
 ßen ein. Ein offenes Buffet mit frischen Leckereien und inkludiertem Saft
  bietet den perfekten Rahmen für entspannte Stunden mit Familie und Freun
 den.
URL:https://www.meinplaner.com
DTSTART;TZID=Europe/Amsterdam:20260510T110000
DTEND;TZID=Europe/Amsterdam:20260510T130000
LOCATION:Johannisplatz  10\, 09111 Chemnitz
BEGIN:VALARM
ACTION:DISPLAY
DESCRIPTION:Erinnerung: SonntagsBrunch beginnt in 1 Stunde
TRIGGER;RELATED=END:-PT1H
END:VALARM
END:VEVENT
END:VCALENDAR
