BEGIN:VCALENDAR
PRODID:-//eluceo/ical//2.0/EN
VERSION:2.0
CALSCALE:GREGORIAN
BEGIN:VEVENT
UID:37d47ae87f5533a44c9208d7f00dd1f4
DTSTAMP:20260424T115221Z
SUMMARY:Tour de MUMM - Fitnessrunde
DESCRIPTION:Sportliche Herausforderung auf zwei Rädern: Eine ca. 79 km lan
 ge Tour für Ausdauer und Kraft\, mit kurzen Regenerationspausen und Verpf
 legung unterwegs. Eine aktive Strecke für alle\, die Bewegung\, Tempo und
  Natur verbinden möchten.
URL:https://www.meinplaner.com
DTSTART;TZID=Europe/Amsterdam:20260501T090000
DTEND;TZID=Europe/Amsterdam:20260501T130000
LOCATION:Chemnitzer Str.  133\, 09599 Freiberg
BEGIN:VALARM
ACTION:DISPLAY
DESCRIPTION:Erinnerung: Tour de MUMM - Fitnessrunde beginnt in 1 Stunde
TRIGGER;RELATED=END:-PT1H
END:VALARM
END:VEVENT
END:VCALENDAR
