BEGIN:VCALENDAR
PRODID:-//eluceo/ical//2.0/EN
VERSION:2.0
CALSCALE:GREGORIAN
BEGIN:VEVENT
UID:ff90aa9fcc3ff4208fa86b7d87ce21b5
DTSTAMP:20260420T062720Z
SUMMARY:"Linedance" Tanzkurs der Westerndancefamily
DESCRIPTION:Den Spaß an diesem schwungvollen Tanz in der Gruppe zu Western
 - und Countrymusik erleben: Immer dienstags können Interessenten reinschn
 uppern.
URL:https://www.meinplaner.com
DTSTART;TZID=Europe/Amsterdam:20260421T163000
DTEND;TZID=Europe/Amsterdam:20260421T180000
LOCATION:Bergstr. 22\, 08280 Aue-Bad Schlema
BEGIN:VALARM
ACTION:DISPLAY
DESCRIPTION:Erinnerung: "Linedance" Tanzkurs der Westerndancefamily beginnt
  in 1 Stunde
TRIGGER;RELATED=END:-PT1H
END:VALARM
END:VEVENT
END:VCALENDAR
